BEGIN:VCALENDAR
VERSION:2.0
PRODID:Events Booking
BEGIN:VEVENT
UID:69e9d141f3c59
SUMMARY:All Ages Pottery: Pinch Pot Pottery Pumpkins
DESCRIPTION:&nbsp\;Make a clay pinch pot pumpkin to keep and some tiny ones
  to share for our Pumpkin Scavenger Hunt. Work will be available for picku
 p or shipping two to three weeks after class.
 Suitable for ages 6 and up
 .&nbsp\;
LOCATION:323 Franklin Road\, Highlands\, NC 28741 
DTSTART:20260919T140000Z
DTEND:20260919T160000Z
DTSTAMP:20251217T220246Z
ORGANIZER;CN=The Bascom:MAILTO:info@thebascom.org
GEO:35.05781;-83.204179
X-APPLE-STRUCTURED-LOCATION;VALUE=URI;X-ADDRESS=323 Franklin Road\, Highlan
 ds\, NC 28741 ;X-APPLE-RADIUS=72;X-TITLE=The Studio Covered Terrace:35.057
 81;-83.204179
END:VEVENT
END:VCALENDAR