BEGIN:VCALENDAR
VERSION:2.0
PRODID:Events Booking
BEGIN:VEVENT
UID:69e9d10a4a341
SUMMARY:All Ages Pottery: Ghosts
DESCRIPTION:Get ready for spooky season by creating ghosts using slabs and 
 texture tools. Work will be available for pickup or shipping two to three 
 weeks after class.
 Suitable for ages 6 and up.&nbsp\;
LOCATION:323 Franklin Road\, Highlands\, NC 28741 
DTSTART:20261003T140000Z
DTEND:20261003T160000Z
DTSTAMP:20251217T210850Z
ORGANIZER;CN=The Bascom:MAILTO:info@thebascom.org
GEO:35.05781;-83.204179
X-APPLE-STRUCTURED-LOCATION;VALUE=URI;X-ADDRESS=323 Franklin Road\, Highlan
 ds\, NC 28741 ;X-APPLE-RADIUS=72;X-TITLE=Dave Drake Barn:35.05781;-83.2041
 79
END:VEVENT
END:VCALENDAR