BEGIN:VCALENDAR
VERSION:2.0
PRODID:Events Booking
BEGIN:VEVENT
UID:69e9dfdfc4650
SUMMARY:Youth Afterschool Pottery: Spooky Season  
DESCRIPTION:Celebrate ghosts\, monsters and more with some spooky pottery p
 rojects.
 Class Meets: October 1\, 15\, and 22
 Suitable for ages 6-18
LOCATION:323 Franklin Road\, Highlands\, NC 28741
DTSTART:20261001T194500Z
DTEND:20261022T210000Z
DTSTAMP:20251217T211826Z
ORGANIZER;CN=The Bascom:MAILTO:info@thebascom.org
GEO:35.05781;-83.204179
X-APPLE-STRUCTURED-LOCATION;VALUE=URI;X-ADDRESS=323 Franklin Road\, Highlan
 ds\, NC 28741;X-APPLE-RADIUS=72;X-TITLE=The Bascom: Hughes Children's Stud
 io (Trail Level):35.05781;-83.204179
END:VEVENT
END:VCALENDAR