BEGIN:VCALENDAR
VERSION:2.0
PRODID:Events Booking
BEGIN:VEVENT
UID:69e9dfdf030d5
SUMMARY:Resident Artist Series: Slab Constructed Flower Bricks\, and Single
  Stem Dahlia Vases
DESCRIPTION:In this 5 day class\, we will use the slab roller to create Flo
 wer Bricks and Single Stem Dahlia Vases.&nbsp\; We will create templates\,
  roll slabs\, use texture pads\, rollers\, etc and then use the templates 
 to cut the clay pieces to put together for make the shapes.&nbsp\; The cla
 ss includes Open Studio only on the day of class.&nbsp\; There is no glazi
 ng component to this class.&nbsp\; Please see Glazing Class in the Residen
 t Artist Schedule.
LOCATION:323 Franklin Road\, Highlands\, NC 28741 
DTSTART:20260810T140000Z
DTEND:20260814T160000Z
DTSTAMP:20251222T232002Z
ORGANIZER;CN=The Bascom:MAILTO:info@thebascom.org
GEO:35.05781;-83.204179
X-APPLE-STRUCTURED-LOCATION;VALUE=URI;X-ADDRESS=323 Franklin Road\, Highlan
 ds\, NC 28741 ;X-APPLE-RADIUS=72;X-TITLE=Dave Drake Barn:35.05781;-83.2041
 79
END:VEVENT
END:VCALENDAR