BEGIN:VCALENDAR
VERSION:2.0
PRODID:Events Booking
BEGIN:VEVENT
UID:69e9dfdf97f8d
SUMMARY:All Ages Pottery - Christmas in July: Luminary Trees
DESCRIPTION:Make a luminary tree that can be used with real or electric can
 dles. Pottery will be available for pickup two to three weeks after class.
 
 Ages:
 6 and up&nbsp\;
LOCATION:323 Franklin Road\, Highlands\, NC 28741 
DTSTART:20260711T140000Z
DTEND:20260711T160000Z
DTSTAMP:20251218T030412Z
ORGANIZER;CN=The Bascom:MAILTO:info@thebascom.org
GEO:35.05781;-83.204179
X-APPLE-STRUCTURED-LOCATION;VALUE=URI;X-ADDRESS=323 Franklin Road\, Highlan
 ds\, NC 28741 ;X-APPLE-RADIUS=72;X-TITLE=The Studio Covered Terrace:35.057
 81;-83.204179
END:VEVENT
END:VCALENDAR