BEGIN:VCALENDAR
VERSION:2.0
PRODID:Events Booking
BEGIN:VEVENT
UID:69e9ac68dc9fa
SUMMARY:Youth Afterschool Pottery: Logs\, Leaves\, and Mushrooms
DESCRIPTION:We will use nature as our inspiration while we explore form and
  texture in clay. Students will glaze their work during the last class. Wo
 rk will be available for pickup or shipping two to three weeks after the f
 inal class.
 Suitable for ages: 6-18
LOCATION:323 Franklin Road\, Highlands\, NC 28741
DTSTART:20260416T194500Z
DTEND:20260430T210000Z
DTSTAMP:20251217T224535Z
ORGANIZER;CN=The Bascom:MAILTO:info@thebascom.org
GEO:35.05781;-83.204179
X-APPLE-STRUCTURED-LOCATION;VALUE=URI;X-ADDRESS=323 Franklin Road\, Highlan
 ds\, NC 28741;X-APPLE-RADIUS=72;X-TITLE=The Bascom: Hughes Children's Stud
 io (Trail Level):35.05781;-83.204179
END:VEVENT
END:VCALENDAR