BEGIN:VCALENDAR
VERSION:2.0
PRODID:Events Booking
BEGIN:VEVENT
UID:69e9cfe2c54c4
SUMMARY:Youth Afterschool Pottery: Ancient Potters
DESCRIPTION:Learn about making and decorating techniques from ancient potte
 ry traditions. Students will glaze their pottery on the last day of class 
 and work will be available for pickup or shipping two to three weeks after
  class.
 Suitable for ages: 8-18
LOCATION:323 Franklin Road\, Highlands\, NC 28741
DTSTART:20260813T194500Z
DTEND:20260827T210000Z
DTSTAMP:20251218T025509Z
ORGANIZER;CN=The Bascom:MAILTO:info@thebascom.org
GEO:35.05781;-83.204179
X-APPLE-STRUCTURED-LOCATION;VALUE=URI;X-ADDRESS=323 Franklin Road\, Highlan
 ds\, NC 28741;X-APPLE-RADIUS=72;X-TITLE=The Bascom: Hughes Children's Stud
 io (Trail Level):35.05781;-83.204179
END:VEVENT
END:VCALENDAR