BEGIN:VCALENDAR
VERSION:2.0
PRODID:Events Booking
BEGIN:VEVENT
UID:69e9ce545fbf8
SUMMARY:Kids Clay Camp - Wheel Throwing Camp
DESCRIPTION:Try out making pottery on the wheel. Students will practice the
  basics of learning to center and throwing small bowls\, cups and plates. 
 Work will be fired and glazed after the class and be available for pickup 
 or shipping three weeks after class ends.
 Suitable for ages 10-18
LOCATION:323 Franklin Road\, Highlands\, NC 28741 
DTSTART:20260804T180000Z
DTEND:20260806T193000Z
DTSTAMP:20251217T225402Z
ORGANIZER;CN=The Bascom:MAILTO:info@thebascom.org
GEO:35.05781;-83.204179
X-APPLE-STRUCTURED-LOCATION;VALUE=URI;X-ADDRESS=323 Franklin Road\, Highlan
 ds\, NC 28741 ;X-APPLE-RADIUS=72;X-TITLE=The Studio Covered Terrace:35.057
 81;-83.204179
END:VEVENT
END:VCALENDAR