BEGIN:VCALENDAR
VERSION:2.0
PRODID:Events Booking
BEGIN:VEVENT
UID:69e9ac0a28d97
SUMMARY:Bee Kind! Shine Your Light! Youth Luminaries
DESCRIPTION:Kids will design and decorate luminaries as they practice mindf
 ulness\, reflect on kindness\, and learn how to let their unique light shi
 ne—one glowing creation at a time.
 Ages 7-12
 This class is presented
  in partnership with the Counciling Center of Highlands and the Highlands 
 Cashiers Health Foundation as part of their Bee Kind mental health awarene
 ss initiative.
LOCATION:323 Franklin Road\, Highlands\, NC 28741
DTSTART:20260509T140000Z
DTEND:20260509T160000Z
DTSTAMP:20260124T211205Z
ORGANIZER;CN=The Bascom:MAILTO:info@thebascom.org
GEO:35.05781;-83.204179
X-APPLE-STRUCTURED-LOCATION;VALUE=URI;X-ADDRESS=323 Franklin Road\, Highlan
 ds\, NC 28741;X-APPLE-RADIUS=72;X-TITLE=The Bascom: Hughes Children's Stud
 io (Trail Level):35.05781;-83.204179
END:VEVENT
END:VCALENDAR