BEGIN:VCALENDAR
VERSION:2.0
PRODID:Events Booking
BEGIN:VEVENT
UID:69e9bd4946d15
SUMMARY:What Makes a Blue Ribbon Bloom? A Dahlia Judging Talk with Peggy Bo
 ruchow Arnette and Libby Eustis
DESCRIPTION:
 As part of the 16th Annual Dazzling Dahlia Festival\, the Ba
 scom is pleased to host an educational talk and workshop led by Highlands 
 growers Peggy Boruchow Arnette and Libby Eustis. Tailored for both novice 
 and experienced growers\, this engaging session explores the full arc of t
 he exhibition dahlia—from the final weeks in the garden to the show tabl
 e in the upcoming Single Bloom Competition.
 Participants are encouraged 
 to bring two or three dahlias from their own gardens for hands-on guidance
  in selection\, evaluation\, and staging.
 
DTSTART:20260829T150000Z
DTEND:20260829T160000Z
DTSTAMP:20260326T231603Z
ORGANIZER;CN=The Bascom:MAILTO:info@thebascom.org
END:VEVENT
END:VCALENDAR