BEGIN:VCALENDAR
VERSION:2.0
PRODID:Events Booking
BEGIN:VEVENT
UID:69e9ce4bcffdc
SUMMARY:Transferred Layers
DESCRIPTION:In this hands-on workshop\, participants will learn how to edit
  images\, create screens\, and print custom underglaze transfers for use o
 n ceramic surfaces. Designed for mid- to high-fire clay\, the process expa
 nds surface decoration techniques and introduces participants to screen-pr
 inted imagery as a versatile tool in ceramic practice.
 All students will
  be provided with:
 1 Speed screen screen printing kit which includes:- 8
 -inch x 10-inch Speedball Wood Frame\, 30W LED Lamp\, 4oz Black Fabric Scr
 een Printing Ink\, craft stick\, Speedball Screen Cord\, Red Baron Squeege
 e\, 3-Pack Speed Screens\, black paper\, (3) Speedball Transparency Sheets
 
 1 newsprint pad1 Speedball brayera wide variety of the available Speedb
 all underglaze colors1 silicone spatula1 information and instruction hando
 ut
LOCATION:323 Franklin Road\, Highlands\, NC 28741 
DTSTART:20260522T130000Z
DTEND:20260524T200000Z
DTSTAMP:20251223T004757Z
ORGANIZER;CN=The Bascom:MAILTO:info@thebascom.org
GEO:35.05781;-83.204179
X-APPLE-STRUCTURED-LOCATION;VALUE=URI;X-ADDRESS=323 Franklin Road\, Highlan
 ds\, NC 28741 ;X-APPLE-RADIUS=72;X-TITLE=Dave Drake Barn:35.05781;-83.2041
 79
END:VEVENT
END:VCALENDAR