BEGIN:VCALENDAR
VERSION:2.0
PRODID:Events Booking
BEGIN:VEVENT
UID:69e9be0d34fa9
SUMMARY:Resident Artist Series: Wheel Throwing I 
DESCRIPTION:In this 5 day wheel throwing class\, we will cover the basics o
 f working on the potter’s wheel.&nbsp\; If you have never tried this bef
 ore\, please expect some difficulty in the initial stages.&nbsp\; The focu
 s will be to learn centering and then to pull shapes such as bowls (ex. be
 rry bowls\, soup bowls\, colander\, cereal bowls\, etc) and cylinders (ex.
  Mugs\, tumblers\, sippers – based on the learning curve). This class in
 cludes Open Studio access only on the day of class.&nbsp\; There will not 
 be a glazing component to this class.&nbsp\; Please see Glazing Class in t
 he Resident Artist Series Schedule.
LOCATION:323 Franklin Road\, Highlands\, NC 28741 
DTSTART:20260608T140000Z
DTEND:20260612T160000Z
DTSTAMP:20251222T231548Z
ORGANIZER;CN=The Bascom:MAILTO:info@thebascom.org
GEO:35.05781;-83.204179
X-APPLE-STRUCTURED-LOCATION;VALUE=URI;X-ADDRESS=323 Franklin Road\, Highlan
 ds\, NC 28741 ;X-APPLE-RADIUS=72;X-TITLE=Dave Drake Barn:35.05781;-83.2041
 79
END:VEVENT
END:VCALENDAR