BEGIN:VCALENDAR
VERSION:2.0
PRODID:Events Booking
BEGIN:VEVENT
UID:69e9bcfae98c5
SUMMARY:Resident Artist Series: Wheel Throwing I
DESCRIPTION:In this 5 day wheel throwing class\, we will cover the basics o
 f working on the potter’s wheel. If you have never tried this before\, p
 lease expect some difficulty in the initial stages. The focus will be to l
 earn centering and then to pull shapes such as bowls (ex. berry bowls\, so
 up bowls\, colander\, cereal bowls\, etc) and cylinders (ex. Mugs\, tumble
 rs\, sippers – based on the learning curve). This class includes Open St
 udio access only on the day of class. There will not be a glazing componen
 t to this class. Please see Glazing Class in the Resident Artist Series Sc
 hedule.
LOCATION:323 Franklin Road\, Highlands\, NC 28741 
DTSTART:20260817T140000Z
DTEND:20260821T160000Z
DTSTAMP:20260220T183913Z
ORGANIZER;CN=The Bascom:MAILTO:info@thebascom.org
GEO:35.05781;-83.204179
X-APPLE-STRUCTURED-LOCATION;VALUE=URI;X-ADDRESS=323 Franklin Road\, Highlan
 ds\, NC 28741 ;X-APPLE-RADIUS=72;X-TITLE=Dave Drake Barn:35.05781;-83.2041
 79
END:VEVENT
END:VCALENDAR