BEGIN:VCALENDAR
VERSION:2.0
PRODID:Events Booking
BEGIN:VEVENT
UID:69e9cea9a32bc
SUMMARY:Resident Artist Series: Raku
DESCRIPTION:In this 5 day Raku firing class\, students need to have bisque 
 pots ready to fire.&nbsp\; Pots need to be made in advance so that we can 
 spend class time glazing and firing.&nbsp\; Students need to think about h
 aving 10-15 small to medium size pots to fire.&nbsp\; No pots bigger than 
 12 inches in any direction. &nbsp\;There is no Open Studio after class.
LOCATION:323 Franklin Road\, Highlands\, NC 28741 
DTSTART:20261012T140000Z
DTEND:20261016T160000Z
DTSTAMP:20251222T225538Z
ORGANIZER;CN=The Bascom:MAILTO:info@thebascom.org
GEO:35.05781;-83.204179
X-APPLE-STRUCTURED-LOCATION;VALUE=URI;X-ADDRESS=323 Franklin Road\, Highlan
 ds\, NC 28741 ;X-APPLE-RADIUS=72;X-TITLE=Dave Drake Barn:35.05781;-83.2041
 79
END:VEVENT
END:VCALENDAR