BEGIN:VCALENDAR
VERSION:2.0
PRODID:Events Booking
BEGIN:VEVENT
UID:69e9bcb87eb68
SUMMARY:Perceptual Color: Seeing\, Mixing\, and Painting with Sensitivity w
 ith Ben Hamburger
DESCRIPTION:View the Supply List HERE
 This three-day workshop explores co
 lor as both a technical and expressive element of painting. Through focuse
 d exercises\, still life studies\, demonstrations\, and critique\, partici
 pants will refine their ability to perceive\, mix\, and use color with gre
 ater intention. Designed for intermediate and advanced painters\, the clas
 s welcomes returning students as well as new participants working in acryl
 ic or oil.
LOCATION:323 Franklin Road\, Highlands\, NC 28741
DTSTART:20260624T140000Z
DTEND:20260626T200000Z
DTSTAMP:20251210T203929Z
ORGANIZER;CN=The Bascom:MAILTO:info@thebascom.org
GEO:35.05781;-83.204179
X-APPLE-STRUCTURED-LOCATION;VALUE=URI;X-ADDRESS=323 Franklin Road\, Highlan
 ds\, NC 28741;X-APPLE-RADIUS=72;X-TITLE=The Bascom: Adult Studio B (Trail 
 Level):35.05781;-83.204179
END:VEVENT
END:VCALENDAR