BEGIN:VCALENDAR
VERSION:2.0
PRODID:Events Booking
BEGIN:VEVENT
UID:69e9bd9a03ee8
SUMMARY:Fall Exhibition Reception 
DESCRIPTION:Join us as we open the fall exhibition season with Voices of In
 fluence: Celebrating the Impact of Women in Art\, TRACES: Jo Sandman from 
 the Black Mountain College Museum + Arts Center\, and Ceramic Artists of T
 he Bascom Clay Symposium featuring Andrew Godfrey Shaw\, Alexander Thierry
 \, and Tiffany Thomas. This reception offers an opportunity to meet the ar
 tists and curators behind these dynamic exhibitions and to connect with fe
 llow community members who value the evolving landscape of contemporary an
 d regional art. Light refreshments will be served.
DTSTART:20260910T210000Z
DTEND:20260910T223000Z
DTSTAMP:20251211T203242Z
ORGANIZER;CN=The Bascom:MAILTO:info@thebascom.org
END:VEVENT
END:VCALENDAR