BEGIN:VCALENDAR
VERSION:2.0
PRODID:Events Booking
BEGIN:VEVENT
UID:69e9cf95a90cf
SUMMARY:Summer Exhibition Reception 
DESCRIPTION:Celebrate the summer exhibition season with a reception highlig
 hting the Photography Resident Exhibition\, I Sing Behind the Plow: A Cent
 ury of Teaching Craft and Traditional Culture at the John C. Campbell Folk
  School\, and Connecting to Place: Blue Ridge Craft Trails Invitational 20
 26. Meet the featured artists and curators\, explore new perspectives on r
 egional craft and tradition\, and enjoy conversation with fellow art enthu
 siasts. Light refreshments will be served.
DTSTART:20260611T210000Z
DTEND:20260611T223000Z
DTSTAMP:20251211T202743Z
ORGANIZER;CN=The Bascom:MAILTO:info@thebascom.org
END:VEVENT
END:VCALENDAR