BEGIN:VCALENDAR
VERSION:2.0
PRODID:Events Booking
BEGIN:VEVENT
UID:69e9d137e9b21
SUMMARY:Pumpkin Scavenger Hunt
DESCRIPTION:During Vist Highlands' Halloween Celebration\, search for handc
 rafted ceramic pumpkins\, created by students in The Bascom Clay Studio\, 
 hidden around downtown.
LOCATION:323 Franklin Rd.\, Highlands\, NC 28741
DTSTART:20261031T220000Z
DTEND:20261101T000000Z
DTSTAMP:20251217T213634Z
ORGANIZER;CN=The Bascom:MAILTO:info@thebascom.org
GEO:35.05312;0
X-APPLE-STRUCTURED-LOCATION;VALUE=URI;X-ADDRESS=323 Franklin Rd.\, Highland
 s\, NC 28741;X-APPLE-RADIUS=72;X-TITLE=Off Campus:35.05312;0
END:VEVENT
END:VCALENDAR