BEGIN:VCALENDAR
VERSION:2.0
PRODID:Events Booking
BEGIN:VEVENT
UID:69e9d13765fb4
SUMMARY:15th Annual Fall Pottery Show 
DESCRIPTION:Now in its fifteenth year\, The Bascom’s seasonal pottery sho
 w highlights the skill and creativity of our Studio Members\, whose work i
 s created and fired on-site in our ceramic studio. This fall's installment
  invites visitors to explore a diverse selection of handmade functional an
 d sculptural pieces while directly supporting the artists who make them.
LOCATION:323 Franklin Road\, Highlands\, NC 28741 
DTSTART:20261009T140000Z
DTEND:20261010T200000Z
DTSTAMP:20251210T221604Z
ORGANIZER;CN=The Bascom:MAILTO:info@thebascom.org
GEO:35.05781;-83.204179
X-APPLE-STRUCTURED-LOCATION;VALUE=URI;X-ADDRESS=323 Franklin Road\, Highlan
 ds\, NC 28741 ;X-APPLE-RADIUS=72;X-TITLE=Dave Drake Barn:35.05781;-83.2041
 79
END:VEVENT
END:VCALENDAR