BEGIN:VCALENDAR
VERSION:2.0
PRODID:Events Booking
BEGIN:VEVENT
UID:69ec362c3fd6e
SUMMARY:13th Annual Summer Pottery Show 
DESCRIPTION:
 The summer installment of our 13th annual pottery show will 
 be held on Friday\, July 26th and Saturday\, July 27th from 10am - 4pm. En
 joy beautiful handmade pottery while supporting local artists in our commu
 nity!
LOCATION:323 Franklin Road\, Highlands\, NC 28741 
DTSTART:20240726T140000Z
DTEND:20240727T200000Z
DTSTAMP:20231212T212740Z
ORGANIZER;CN=The Bascom:MAILTO:info@thebascom.org
GEO:35.05781;-83.204179
X-APPLE-STRUCTURED-LOCATION;VALUE=URI;X-ADDRESS=323 Franklin Road\, Highlan
 ds\, NC 28741 ;X-APPLE-RADIUS=72;X-TITLE=Dave Drake Barn:35.05781;-83.2041
 79
END:VEVENT
END:VCALENDAR