BEGIN:VCALENDAR
VERSION:2.0
PRODID:Events Booking
BEGIN:VEVENT
UID:69e9f76dd2c3b
SUMMARY:Paint and Sip: Winter Scene
DESCRIPTION:Bring your friends along to this paint-along experience with Ca
 ryn Raming where you will paint a winter scene step-by-step!
 Wine\, supp
 lies\, and good times included.
LOCATION:323 Franklin Road\, Highlands\, NC 28741
DTSTART:20261204T210000Z
DTEND:20261205T000000Z
DTSTAMP:20260122T023619Z
ORGANIZER;CN=The Bascom:MAILTO:info@thebascom.org
GEO:35.05781;-83.204179
X-APPLE-STRUCTURED-LOCATION;VALUE=URI;X-ADDRESS=323 Franklin Road\, Highlan
 ds\, NC 28741;X-APPLE-RADIUS=72;X-TITLE=The Bascom: Adult Studio B (Trail 
 Level):35.05781;-83.204179
END:VEVENT
END:VCALENDAR