BEGIN:VCALENDAR
VERSION:2.0
PRODID:Events Booking
BEGIN:VEVENT
UID:69e9cfce3c8a1
SUMMARY:Community Day 2026  
DESCRIPTION:The Bascom: A Center for the Visual Arts will host its annual C
 ommunity Day on Friday\, July 3\, from 11:00 a.m. to 2:00 p.m. This free\,
  family-friendly event invites guests of all ages to explore The Bascom’
 s six-acre campus with hands-on art activities\, live artist demonstration
 s\, free popcorn\, and special exhibitions on view in the galleries.
LOCATION:The Bascom
DTSTART:20260703T150000Z
DTEND:20260703T180000Z
DTSTAMP:20251210T213306Z
ORGANIZER;CN=The Bascom:MAILTO:info@thebascom.org
GEO:28.61492;77.22173
X-APPLE-STRUCTURED-LOCATION;VALUE=URI;X-ADDRESS=The Bascom;X-APPLE-RADIUS=7
 2;X-TITLE=Bascom Campus:28.61492;77.22173
END:VEVENT
END:VCALENDAR