BEGIN:VCALENDAR
VERSION:2.0
PRODID:Events Booking
BEGIN:VEVENT
UID:69e9bc473e6ff
SUMMARY:Classical Figure Drawing for Everyone with Jonathan Hodge
DESCRIPTION:View the Supply List&nbsp\;HERE
 Learn the basics of classical
  figure drawing from&nbsp\;a&nbsp\;live model. In this course\, we will fo
 cus on gesture\, comparative measurement and how to create block-ins\, whi
 ch are the foundation of all representational drawings. There will be demo
 s\, Q&amp\;A sessions as well as in-depth\, personalized critiques of stud
 ent work. We will start with short gestures and work our way up to longer 
 poses.
LOCATION:323 Franklin Road\, Highlands\, NC 28741
DTSTART:20260819T140000Z
DTEND:20260821T200000Z
DTSTAMP:20251223T213249Z
ORGANIZER;CN=The Bascom:MAILTO:info@thebascom.org
GEO:35.05781;-83.204179
X-APPLE-STRUCTURED-LOCATION;VALUE=URI;X-ADDRESS=323 Franklin Road\, Highlan
 ds\, NC 28741;X-APPLE-RADIUS=72;X-TITLE=The Bascom: Adult Studio B (Trail 
 Level):35.05781;-83.204179
END:VEVENT
END:VCALENDAR