BEGIN:VCALENDAR
VERSION:2.0
PRODID:Events Booking
BEGIN:VEVENT
UID:69e9cfcc79676
SUMMARY:Painting From Life with Armand Cabrera
DESCRIPTION:View the Supply List HERE
 This immersive workshop focuses on 
 painting from life through daily studio and outdoor sessions\, including s
 till lifes and landscapes. With daily demonstrations\, the class emphasize
 s clean color mixing\, accurate value relationships\, and strong compositi
 on. Individual guidance supports artists at all experience levels in a foc
 used\, engaging\, and non-competitive environment.
LOCATION:323 Franklin Road\, Highlands\, NC 28741
DTSTART:20260708T140000Z
DTEND:20260710T200000Z
DTSTAMP:20251211T004811Z
ORGANIZER;CN=The Bascom:MAILTO:info@thebascom.org
GEO:35.05781;-83.204179
X-APPLE-STRUCTURED-LOCATION;VALUE=URI;X-ADDRESS=323 Franklin Road\, Highlan
 ds\, NC 28741;X-APPLE-RADIUS=72;X-TITLE=The Bascom: Adult Studio B (Trail 
 Level):35.05781;-83.204179
END:VEVENT
END:VCALENDAR