BEGIN:VCALENDAR
VERSION:2.0
PRODID:Events Booking
BEGIN:VEVENT
UID:69e9bc7810359
SUMMARY:Head Games: Building Bold Sculpted Heads
DESCRIPTION:This workshop explores the creation of expressive\, slightly la
 rger-than-life ceramic heads that prioritize gesture\, exaggeration\, and 
 surface over literal realism. Participants will work solid and with armatu
 res while developing an understanding of structure\, proportion\, and inte
 ntional distortion. The course begins with a low-fire soda kiln experience
 \, allowing participants to explore atmospheric surface effects that will 
 inform their sculptural work. Designed for artists ready to push beyond sa
 fe forms\, this workshop emphasizes focused making\, problem-solving\, and
  guided experimentation.
LOCATION:323 Franklin Road\, Highlands\, NC 28741 
DTSTART:20260824T130000Z
DTEND:20260828T200000Z
DTSTAMP:20251224T022555Z
ORGANIZER;CN=The Bascom:MAILTO:info@thebascom.org
GEO:35.05781;-83.204179
X-APPLE-STRUCTURED-LOCATION;VALUE=URI;X-ADDRESS=323 Franklin Road\, Highlan
 ds\, NC 28741 ;X-APPLE-RADIUS=72;X-TITLE=Dave Drake Barn:35.05781;-83.2041
 79
END:VEVENT
END:VCALENDAR