BEGIN:VCALENDAR
VERSION:2.0
PRODID:Events Booking
BEGIN:VEVENT
UID:69e9ad1a55d7a
SUMMARY:Power-carving a Red-Tailed Hawk Feather with Christine Smith
DESCRIPTION:In this hands-on workshop with Christine Smith\, participants w
 ill carve and paint a realistic Red-Tailed Hawk feather. The session cover
 s three-dimensional carving techniques\, surface detailing\, and finishing
  with transparent acrylic paint washes. No prior carving or painting exper
 ience is required\, and all instruction is provided.
LOCATION:323 Franklin Road\, Highlands\, NC 28741
DTSTART:20260530T140000Z
DTEND:20260530T200000Z
DTSTAMP:20251205T230005Z
ORGANIZER;CN=The Bascom:MAILTO:info@thebascom.org
GEO:35.05781;-83.204179
X-APPLE-STRUCTURED-LOCATION;VALUE=URI;X-ADDRESS=323 Franklin Road\, Highlan
 ds\, NC 28741;X-APPLE-RADIUS=72;X-TITLE=The Bascom: Adult Studio B (Trail 
 Level):35.05781;-83.204179
END:VEVENT
END:VCALENDAR