BEGIN:VCALENDAR
VERSION:2.0
PRODID:Events Booking
BEGIN:VEVENT
UID:69e9de2acca9d
SUMMARY:Encaustics with Sue Fazio 
DESCRIPTION:View the Supply List HERE
 Encaustics will fire up your creati
 ve soul! Just imagine being able to play with melting colors—- layer aft
 er layer until you finally recognize your masterpiece! This workshop is de
 signed to help you loosen up and take chances… every day you will finish
  at least 3 paintings.. imagine that!?!? Some of you have taken all 12 yea
 rs of this workshop and I welcome you back with a happy heart! New artists
 — be not afraid— this medium will allow you to create freely!
LOCATION:323 Franklin Road\, Highlands\, NC 28741
DTSTART:20260901T140000Z
DTEND:20260904T200000Z
DTSTAMP:20251223T231902Z
ORGANIZER;CN=The Bascom:MAILTO:info@thebascom.org
GEO:35.05781;-83.204179
X-APPLE-STRUCTURED-LOCATION;VALUE=URI;X-ADDRESS=323 Franklin Road\, Highlan
 ds\, NC 28741;X-APPLE-RADIUS=72;X-TITLE=The Bascom: Adult Studio B (Trail 
 Level):35.05781;-83.204179
END:VEVENT
END:VCALENDAR