BEGIN:VCALENDAR
VERSION:2.0
PRODID:Events Booking
BEGIN:VEVENT
UID:69e9dfc0dc110
SUMMARY:Summer Blooms Monoprints
DESCRIPTION:Capture the height of the glorious summer season through mono-p
 rints and learn to create unique works in ink. Utilizing organic material 
 from the plateau\, this class will give an introduction to both gelli-plat
 e printmaking\, and pulling inked plates\, utilizing the Bascom printing p
 resses. This type of art making requires no experience and results in beau
 tiful pieces that can be used as the basis for later prints\, collages or 
 enjoyed on their own!
LOCATION:323 Franklin Road\, Highlands\, NC 28741
DTSTART:20260627T140000Z
DTEND:20260627T170000Z
DTSTAMP:20260219T002416Z
ORGANIZER;CN=The Bascom:MAILTO:info@thebascom.org
GEO:35.05781;-83.204179
X-APPLE-STRUCTURED-LOCATION;VALUE=URI;X-ADDRESS=323 Franklin Road\, Highlan
 ds\, NC 28741;X-APPLE-RADIUS=72;X-TITLE=The Bascom: Adult Studio B (Trail 
 Level):35.05781;-83.204179
END:VEVENT
END:VCALENDAR