BEGIN:VCALENDAR
VERSION:2.0
PRODID:Events Booking
BEGIN:VEVENT
UID:69e9cea105fec
SUMMARY:Youth Beaded Wire Suncatcher!
DESCRIPTION:Create handmade beaded wire suncatcher with instructor Caryn Ra
 ming!&nbsp\;
 Ages 7-12
LOCATION:323 Franklin Road\, Highlands\, NC 28741
DTSTART:20261003T140000Z
DTEND:20261003T160000Z
DTSTAMP:20260124T202017Z
ORGANIZER;CN=The Bascom:MAILTO:info@thebascom.org
GEO:35.05781;-83.204179
X-APPLE-STRUCTURED-LOCATION;VALUE=URI;X-ADDRESS=323 Franklin Road\, Highlan
 ds\, NC 28741;X-APPLE-RADIUS=72;X-TITLE=The Bascom: Hughes Children's Stud
 io (Trail Level):35.05781;-83.204179
END:VEVENT
END:VCALENDAR