BEGIN:VCALENDAR
VERSION:2.0
PRODID:Events Booking
BEGIN:VEVENT
UID:69e9bf40599c9
SUMMARY:STEAM Team! Collaborative Experiments in Creativity
DESCRIPTION:The Bascom invites young artists to join instructor Caryn Ramin
 g for hands-on\, collaborative STEAM experiments that blend art\, science\
 , and creativity. Students will work together to explore imaginative chall
 enges\, test ideas\, and discover how creative thinking and experimentatio
 n go hand in hand.
 Bring a lunch or snack\, and get ready to CREATE!
 A
 ges 7–12
LOCATION:323 Franklin Road\, Highlands\, NC 28741
DTSTART:20260728T150000Z
DTEND:20260730T180000Z
DTSTAMP:20260117T004250Z
ORGANIZER;CN=The Bascom:MAILTO:info@thebascom.org
GEO:35.05781;-83.204179
X-APPLE-STRUCTURED-LOCATION;VALUE=URI;X-ADDRESS=323 Franklin Road\, Highlan
 ds\, NC 28741;X-APPLE-RADIUS=72;X-TITLE=The Bascom: Hughes Children's Stud
 io (Trail Level):35.05781;-83.204179
END:VEVENT
END:VCALENDAR