BEGIN:VCALENDAR
VERSION:2.0
PRODID:Events Booking
BEGIN:VEVENT
UID:69e9d2b66d72e
SUMMARY:Still Life Superstars!
DESCRIPTION:The Bascom invites young artists to work with instructor Caryn 
 Raming as they explore the art of still life. Students will observe everyd
 ay objects and experiment with composition\, color\, and texture to create
  thoughtful and imaginative artworks in a variety of mediums.
 Bring a lu
 nch or snack\, and get ready to CREATE!
 Ages 7–12
LOCATION:323 Franklin Road\, Highlands\, NC 28741
DTSTART:20260804T150000Z
DTEND:20260806T180000Z
DTSTAMP:20260117T013016Z
ORGANIZER;CN=The Bascom:MAILTO:info@thebascom.org
GEO:35.05781;-83.204179
X-APPLE-STRUCTURED-LOCATION;VALUE=URI;X-ADDRESS=323 Franklin Road\, Highlan
 ds\, NC 28741;X-APPLE-RADIUS=72;X-TITLE=The Bascom: Hughes Children's Stud
 io (Trail Level):35.05781;-83.204179
END:VEVENT
END:VCALENDAR