BEGIN:VCALENDAR
VERSION:2.0
PRODID:Events Booking
BEGIN:VEVENT
UID:69e9be0c6447a
SUMMARY:Sculpting Stories in Clay 
DESCRIPTION:All skill levels are welcome to join ceramic artist Taylor Robe
 nalt for a three-day workshop exploring storytelling through clay. Partici
 pants will learn hand-building techniques for creating narrative-driven sc
 ulptures\, with demonstrations focused on constructing symbolic forms such
  as flora and fauna\, refining surfaces\, and assembling complex forms usi
 ng coil\, slab\, and pinch methods.
LOCATION:323 Franklin Road\, Highlands\, NC 28741 
DTSTART:20260724T130000Z
DTEND:20260726T200000Z
DTSTAMP:20251223T021939Z
ORGANIZER;CN=The Bascom:MAILTO:info@thebascom.org
GEO:35.05781;-83.204179
X-APPLE-STRUCTURED-LOCATION;VALUE=URI;X-ADDRESS=323 Franklin Road\, Highlan
 ds\, NC 28741 ;X-APPLE-RADIUS=72;X-TITLE=Dave Drake Barn:35.05781;-83.2041
 79
END:VEVENT
END:VCALENDAR