BEGIN:VCALENDAR
VERSION:2.0
PRODID:Events Booking
BEGIN:VEVENT
UID:69e9d2f06ab7f
SUMMARY:Resident Artist Series: Hand Building Dinnerware and Tableware Acce
 ssories
DESCRIPTION:In this 5 day hand building class\, we will make objects common
 ly found on your dinner table using the slab roller and slabs of clay\, te
 xture pads\, etc.&nbsp\; Objects to be made could be Plates\, Bowls\, Salt
 /Pepper Shakers\, Candle Sticks\, Pitcher\, etc.&nbsp\;&nbsp\; Templates w
 ill be provided for students to use\, although students are welcome to cre
 ate their own.&nbsp\; In an effort to get through as many projects as we c
 an\, this class is designed to make examples\, not entire plate settings o
 r dinnerware sets.&nbsp\; The class includes Open Studio only on the day o
 f class.&nbsp\; There is no glazing component to this class.&nbsp\; Please
  see Glazing Class in the Resident Artist Schedule.
LOCATION:323 Franklin Road\, Highlands\, NC 28741 
DTSTART:20260914T140000Z
DTEND:20260918T160000Z
DTSTAMP:20251222T232356Z
ORGANIZER;CN=The Bascom:MAILTO:info@thebascom.org
GEO:35.05781;-83.204179
X-APPLE-STRUCTURED-LOCATION;VALUE=URI;X-ADDRESS=323 Franklin Road\, Highlan
 ds\, NC 28741 ;X-APPLE-RADIUS=72;X-TITLE=Dave Drake Barn:35.05781;-83.2041
 79
END:VEVENT
END:VCALENDAR