BEGIN:VCALENDAR
VERSION:2.0
PRODID:Events Booking
BEGIN:VEVENT
UID:69e9be3d28e68
SUMMARY:Kids Clay Camp - Handbuilding Holiday Week Camp
DESCRIPTION:Fourth of July week- make some of our favorite holiday projects
 ! Ghosts\, Christmas tree luminaries\, and more! Student work will be fire
 d after the class and available for pickup or shipping two to three weeks 
 after the last class.
 Ages:
 6-18
LOCATION:323 Franklin Road\, Highlands\, NC 28741 
DTSTART:20260630T180000Z
DTEND:20260702T200000Z
DTSTAMP:20251218T024440Z
ORGANIZER;CN=The Bascom:MAILTO:info@thebascom.org
GEO:35.05781;-83.204179
X-APPLE-STRUCTURED-LOCATION;VALUE=URI;X-ADDRESS=323 Franklin Road\, Highlan
 ds\, NC 28741 ;X-APPLE-RADIUS=72;X-TITLE=The Studio Covered Terrace:35.057
 81;-83.204179
END:VEVENT
END:VCALENDAR