BEGIN:VCALENDAR
VERSION:2.0
PRODID:Events Booking
BEGIN:VEVENT
UID:69e9d2b6b007e
SUMMARY:Fantastic Fibers!
DESCRIPTION:The Bascom invites young artists to get creative with instructo
 r Caryn Raming in a hands-on exploration of fiber arts. Students will expe
 riment with weaving\, felting\, handmade paper\, and more\; while playing 
 with texture\, pattern\, and imaginative design.
 Bring a lunch or snack\
 , and get ready to CREATE!
 Ages 7–12
LOCATION:323 Franklin Road\, Highlands\, NC 28741
DTSTART:20260714T150000Z
DTEND:20260716T180000Z
DTSTAMP:20260116T223729Z
ORGANIZER;CN=The Bascom:MAILTO:info@thebascom.org
GEO:35.05781;-83.204179
X-APPLE-STRUCTURED-LOCATION;VALUE=URI;X-ADDRESS=323 Franklin Road\, Highlan
 ds\, NC 28741;X-APPLE-RADIUS=72;X-TITLE=The Bascom: Hughes Children's Stud
 io (Trail Level):35.05781;-83.204179
END:VEVENT
END:VCALENDAR