BEGIN:VCALENDAR
VERSION:2.0
PRODID:Events Booking
BEGIN:VEVENT
UID:69e9bf8a5a24d
SUMMARY:Section Throwing and Coil Building to Make Big Pots
DESCRIPTION:Are you ready to step up your pottery game and create larger\, 
 more ambitious pieces? This workshop is designed for potters who want to p
 ush the boundaries of their skills and explore the art of making bigger po
 ttery. The goal is to make 2\, 12 lb pots in 3 days.&nbsp\;&nbsp\;Throwing
  and modified coil building techniques will be demonstrated.&nbsp\; For ha
 nd builders\, one pot will most likely all that can be completed.
LOCATION:323 Franklin Road\, Highlands\, NC 28741 
DTSTART:20260605T130000Z
DTEND:20260607T200000Z
DTSTAMP:20251223T021301Z
ORGANIZER;CN=The Bascom:MAILTO:info@thebascom.org
GEO:35.05781;-83.204179
X-APPLE-STRUCTURED-LOCATION;VALUE=URI;X-ADDRESS=323 Franklin Road\, Highlan
 ds\, NC 28741 ;X-APPLE-RADIUS=72;X-TITLE=Dave Drake Barn:35.05781;-83.2041
 79
END:VEVENT
END:VCALENDAR