BEGIN:VCALENDAR
VERSION:2.0
PRODID:Events Booking
BEGIN:VEVENT
UID:69e9bfe8cd317
SUMMARY:Resident Artist Series: Holiday Clay Projects
DESCRIPTION:In this 5 day hand building class\, we will create holiday them
 ed clay projects using the slab roller.&nbsp\; Projects include snowmen lu
 minaries\, Christmas village luminaries\, gnomes\, advent wreath/Hanukkah 
 menorah\, etc.&nbsp\; Templates will be provided\, but students are welcom
 e to create their own.&nbsp\;&nbsp\; The class includes Open Studio only o
 n the day of class.&nbsp\; There is no glazing component included in the c
 lass.&nbsp\; Please see Glazing Class in the Resident Artist Schedule.&nbs
 p\;
LOCATION:323 Franklin Road\, Highlands\, NC 28741 
DTSTART:20261102T150000Z
DTEND:20261106T170000Z
DTSTAMP:20251222T231653Z
ORGANIZER;CN=The Bascom:MAILTO:info@thebascom.org
GEO:35.05781;-83.204179
X-APPLE-STRUCTURED-LOCATION;VALUE=URI;X-ADDRESS=323 Franklin Road\, Highlan
 ds\, NC 28741 ;X-APPLE-RADIUS=72;X-TITLE=Dave Drake Barn:35.05781;-83.2041
 79
END:VEVENT
END:VCALENDAR