BEGIN:VCALENDAR
VERSION:2.0
PRODID:Events Booking
BEGIN:VEVENT
UID:69e9bfe753415
SUMMARY:Painting Flowers in Oil with Vibrant Color and Energy with Pat Fior
 ello
DESCRIPTION:View the Supply List HERE
 This three-day workshop with award-
 winning artist Pat Fiorello explores a loose\, direct alla prima approach 
 to painting flowers in oil. Through demonstrations\, guided practice\, and
  individual feedback\, participants will learn to simplify floral forms\, 
 observe light and shadow\, mix color\, and use expressive brushwork. Desig
 ned for painters with prior experience in oil or acrylic\, the workshop ba
 lances technical skill with a fresh\, intuitive approach to capturing the 
 essence of flowers.
LOCATION:323 Franklin Road\, Highlands\, NC 28741
DTSTART:20260812T140000Z
DTEND:20260814T200000Z
DTSTAMP:20251212T204039Z
ORGANIZER;CN=The Bascom:MAILTO:info@thebascom.org
GEO:35.05781;-83.204179
X-APPLE-STRUCTURED-LOCATION;VALUE=URI;X-ADDRESS=323 Franklin Road\, Highlan
 ds\, NC 28741;X-APPLE-RADIUS=72;X-TITLE=The Bascom: Adult Studio B (Trail 
 Level):35.05781;-83.204179
END:VEVENT
END:VCALENDAR