BEGIN:VCALENDAR
VERSION:2.0
PRODID:Events Booking
BEGIN:VEVENT
UID:69e9bfe262df3
SUMMARY:Make your own Holiday Cards 
DESCRIPTION:Celebrate the season by making Holiday Cards with Caryn Ramning
 \, exploring printmaking\, collage\, and mixed media to create one-of-a-ki
 nd handmade greetings perfect for sharing.
 Supplies included.
LOCATION:323 Franklin Road\, Highlands\, NC 28741
DTSTART:20261114T190000Z
DTEND:20261114T210000Z
DTSTAMP:20260124T205653Z
ORGANIZER;CN=The Bascom:MAILTO:info@thebascom.org
GEO:35.05781;-83.204179
X-APPLE-STRUCTURED-LOCATION;VALUE=URI;X-ADDRESS=323 Franklin Road\, Highlan
 ds\, NC 28741;X-APPLE-RADIUS=72;X-TITLE=The Bascom: Hughes Children's Stud
 io (Trail Level):35.05781;-83.204179
END:VEVENT
END:VCALENDAR