BEGIN:VCALENDAR
VERSION:2.0
PRODID:Events Booking
BEGIN:VEVENT
UID:69e9d314815af
SUMMARY:Learn to Turn II: Woodturning Skill Building with John Tagliarini
DESCRIPTION:Take your woodturning skills to the next level in this intermed
 iate-level workshop. Participants will expand their repertoire by learning
  pull and shear cuts while focusing on projects such as bowls\, Christmas 
 ornaments\, and small vases. The class will also explore surface enhanceme
 nts to add depth and character to turned pieces. Additional projects and d
 iagnostic turning may include making a mallet or a tool handle.This worksh
 op is designed for students with prior turning experience who are ready to
  refine their technique and broaden their creative possibilities.
LOCATION:323 Franklin Road\, Highlands\, NC 28741
DTSTART:20260923T130000Z
DTEND:20260925T200000Z
DTSTAMP:20251224T015109Z
ORGANIZER;CN=The Bascom:MAILTO:info@thebascom.org
GEO:35.05781;-83.204179
X-APPLE-STRUCTURED-LOCATION;VALUE=URI;X-ADDRESS=323 Franklin Road\, Highlan
 ds\, NC 28741;X-APPLE-RADIUS=72;X-TITLE=The Bascom: Adult Studio B (Trail 
 Level):35.05781;-83.204179
END:VEVENT
END:VCALENDAR