BEGIN:VCALENDAR
VERSION:2.0
PRODID:Events Booking
BEGIN:VEVENT
UID:69e9bfe236d82
SUMMARY:The Abstracted Landscape with Larry Moore
DESCRIPTION:View the Supply List HERE
 This immersive four-day workshop at
  The Bascom invites artists to explore the fundamental principles of desig
 n while discovering their own authentic creative voice. Rather than prescr
 ibing a single style\, Larry Moore offers a flexible process that allows p
 articipants to choose their own level of abstraction—from representation
 al interpretations to fully abstract compositions.
LOCATION:323 Franklin Road\, Highlands\, NC 28741
DTSTART:20261020T130000Z
DTEND:20261023T200000Z
DTSTAMP:20260228T151605Z
ORGANIZER;CN=The Bascom:MAILTO:info@thebascom.org
GEO:35.05781;-83.204179
X-APPLE-STRUCTURED-LOCATION;VALUE=URI;X-ADDRESS=323 Franklin Road\, Highlan
 ds\, NC 28741;X-APPLE-RADIUS=72;X-TITLE=The Bascom: Adult Studio B (Trail 
 Level):35.05781;-83.204179
END:VEVENT
END:VCALENDAR