BEGIN:VCALENDAR
VERSION:2.0
PRODID:Events Booking
BEGIN:VEVENT
UID:69e9bfe974890
SUMMARY:iPhone Artistry : Mastering Photography Through Your Lens with Gwen
  Greenglass
DESCRIPTION:Your iPhone camera is your window to the world. Learn how to un
 lock its full potential\, including the addition of various photography ap
 ps. We will focus on Photography skills such as impact\, composition\, lig
 hting\, storytelling\, artistry and more that will take your images to the
  next level. The course includes both classroom time and taking photograph
 s on-location in Highlands\, NC.
 Your instructor\, Professional Fine Art
  Nature and Portrait Photographer Gwen Greenglass\, will guide you in appl
 ying these skills to your favorite style of photography.
LOCATION:The Bascom 
DTSTART:20261010T130000Z
DTEND:20261010T200000Z
DTSTAMP:20251223T192220Z
ORGANIZER;CN=The Bascom:MAILTO:info@thebascom.org
GEO:28.61492;77.22173
X-APPLE-STRUCTURED-LOCATION;VALUE=URI;X-ADDRESS=The Bascom ;X-APPLE-RADIUS=
 72;X-TITLE=Library:28.61492;77.22173
END:VEVENT
END:VCALENDAR