BEGIN:VCALENDAR
VERSION:2.0
PRODID:Events Booking
BEGIN:VEVENT
UID:69e9ad6407ef9
SUMMARY:Beginning to Paint: Color\, Composition & Confidence with Cath Conn
 olly Hudson
DESCRIPTION:View the Supply List HERE
 This workshop offers an easy\, supp
 ortive path into oil painting for those who are new to oils or seeking a f
 resh\, confidence-building start. We’ll take our inspiration from the Im
 pressionists and through clear demonstrations\, guided exercises\, and ste
 p-by-step instruction\, you are introduced to the essentials of oil painti
 ng in a relaxed and encouraging environment. Everyone will finish a painti
 ng ready to hang.&nbsp\;
LOCATION:323 Franklin Road\, Highlands\, NC 28741
DTSTART:20260429T140000Z
DTEND:20260501T200000Z
DTSTAMP:20251217T212315Z
ORGANIZER;CN=The Bascom:MAILTO:info@thebascom.org
GEO:35.05781;-83.204179
X-APPLE-STRUCTURED-LOCATION;VALUE=URI;X-ADDRESS=323 Franklin Road\, Highlan
 ds\, NC 28741;X-APPLE-RADIUS=72;X-TITLE=The Bascom: Adult Studio B (Trail 
 Level):35.05781;-83.204179
END:VEVENT
END:VCALENDAR