BEGIN:VCALENDAR
VERSION:2.0
PRODID:Events Booking
BEGIN:VEVENT
UID:69ead3985559f
SUMMARY:Beauty & the Sublime: A Photography Awe Walk on the Bartram Trail
DESCRIPTION:
 
 
 
 
 An Awe Walk is a walk within a place of meaning 
 and beauty to encounter something that amazes and transcends\, whether big
  or small. Drawing on inspiration from William Bartram’s reflections on 
 beauty and the sublime\, this leisurely 3-hour walk will use photography a
 s a tool for cultivating humility and wonder.
 
 
 
 
LOCATION:323 Franklin Rd.\, Highlands\, NC 28741
DTSTART:20230422T200000Z
DTEND:20230422T230000Z
DTSTAMP:20221220T231056Z
ORGANIZER;CN=The Bascom:MAILTO:info@thebascom.org
GEO:35.05312;0
X-APPLE-STRUCTURED-LOCATION;VALUE=URI;X-ADDRESS=323 Franklin Rd.\, Highland
 s\, NC 28741;X-APPLE-RADIUS=72;X-TITLE=Off Campus:35.05312;0
END:VEVENT
END:VCALENDAR