BEGIN:VCALENDAR
VERSION:2.0
PRODID:Events Booking
BEGIN:VEVENT
UID:69e9c2e8e3c03
SUMMARY:Youth Printmaking: Make your own Wrapping Paper and Gift Tags
DESCRIPTION:Children will work with instructor Caryn Raming to use differen
 t stamping and printmaking techniques to create custom wrapping paper and 
 gift tags!
 Ages 7-12
LOCATION:323 Franklin Road\, Highlands\, NC 28741
DTSTART:20261114T150000Z
DTEND:20261114T170000Z
DTSTAMP:20260124T204321Z
ORGANIZER;CN=The Bascom:MAILTO:info@thebascom.org
GEO:35.05781;-83.204179
X-APPLE-STRUCTURED-LOCATION;VALUE=URI;X-ADDRESS=323 Franklin Road\, Highlan
 ds\, NC 28741;X-APPLE-RADIUS=72;X-TITLE=The Bascom: Hughes Children's Stud
 io (Trail Level):35.05781;-83.204179
END:VEVENT
END:VCALENDAR