BEGIN:VCALENDAR
VERSION:2.0
PRODID:Events Booking
BEGIN:VEVENT
UID:69e9c22e54b9c
SUMMARY:Water Water Everywhere!
DESCRIPTION:The Bascom invites young artists to get creative with instructo
 r Caryn Raming through playful\, water-based art adventures. Students will
  pour\, mix\, and blow their way to exciting discoveries\, exploring movem
 ent\, color\, and unexpected effects.
 Bring a lunch or snack\, and get r
 eady to CREATE!
 Ages 7–12
LOCATION:323 Franklin Road\, Highlands\, NC 28741
DTSTART:20260721T150000Z
DTEND:20260723T180000Z
DTSTAMP:20260117T003303Z
ORGANIZER;CN=The Bascom:MAILTO:info@thebascom.org
GEO:35.05781;-83.204179
X-APPLE-STRUCTURED-LOCATION;VALUE=URI;X-ADDRESS=323 Franklin Road\, Highlan
 ds\, NC 28741;X-APPLE-RADIUS=72;X-TITLE=The Bascom: Hughes Children's Stud
 io (Trail Level):35.05781;-83.204179
END:VEVENT
END:VCALENDAR