BEGIN:VCALENDAR
VERSION:2.0
PRODID:Events Booking
BEGIN:VEVENT
UID:69e9c215cc7dd
SUMMARY:Beginner Collage: Everything's Dahlias!
DESCRIPTION:Artists will explore color\, texture\, and layering as they cre
 ate vibrant collages inspired by the bold shapes and beauty of dahlias.
 
 All Matierials included.
LOCATION:323 Franklin Road\, Highlands\, NC 28741
DTSTART:20260912T180000Z
DTEND:20260912T200000Z
DTSTAMP:20260123T015742Z
ORGANIZER;CN=The Bascom:MAILTO:info@thebascom.org
GEO:35.05781;-83.204179
X-APPLE-STRUCTURED-LOCATION;VALUE=URI;X-ADDRESS=323 Franklin Road\, Highlan
 ds\, NC 28741;X-APPLE-RADIUS=72;X-TITLE=The Bascom: Hughes Children's Stud
 io (Trail Level):35.05781;-83.204179
END:VEVENT
END:VCALENDAR