BEGIN:VCALENDAR
VERSION:2.0
PRODID:Events Booking
BEGIN:VEVENT
UID:69e9ce586ba08
SUMMARY:Killer Paintings While Playing and Growing with Bill Davidson
DESCRIPTION:View the Supply List HERE
 This comprehensive workshop introdu
 ces a structured yet flexible approach to painting that strengthens creati
 vity\, decision-making\, and confidence. Participants will explore tools f
 or design\, value\, color harmony\, and expressive paint application\, enc
 ouraging a freer\, more playful approach to their work.
LOCATION:323 Franklin Road\, Highlands\, NC 28741
DTSTART:20260714T130000Z
DTEND:20260717T200000Z
DTSTAMP:20251211T011053Z
ORGANIZER;CN=The Bascom:MAILTO:info@thebascom.org
GEO:35.05781;-83.204179
X-APPLE-STRUCTURED-LOCATION;VALUE=URI;X-ADDRESS=323 Franklin Road\, Highlan
 ds\, NC 28741;X-APPLE-RADIUS=72;X-TITLE=The Bascom: Adult Studio B (Trail 
 Level):35.05781;-83.204179
END:VEVENT
END:VCALENDAR