BEGIN:VCALENDAR
VERSION:2.0
PRODID:Events Booking
BEGIN:VEVENT
UID:69e9df7856b59
SUMMARY:Cardboard Centerstage!
DESCRIPTION:The Bascom invites young creators to work with instructor Caryn
  Raming to design and build imaginative stage sets using cardboard. This h
 ands-on workshop introduces the basics of set design and encourages teamwo
 rk\, creative thinking\, and big ideas brought to life in 2D and 3D form.
 
 Bring a lunch or snack\, and get ready to CREATE!
 Ages 7-12
LOCATION:323 Franklin Road\, Highlands\, NC 28741
DTSTART:20260609T150000Z
DTEND:20260611T180000Z
DTSTAMP:20251231T015822Z
ORGANIZER;CN=The Bascom:MAILTO:info@thebascom.org
GEO:35.05781;-83.204179
X-APPLE-STRUCTURED-LOCATION;VALUE=URI;X-ADDRESS=323 Franklin Road\, Highlan
 ds\, NC 28741;X-APPLE-RADIUS=72;X-TITLE=The Bascom: Hughes Children's Stud
 io (Trail Level):35.05781;-83.204179
END:VEVENT
END:VCALENDAR