BEGIN:VCALENDAR
VERSION:2.0
PRODID:Events Booking
BEGIN:VEVENT
UID:69e9bd0d87433
SUMMARY:Youth Homeschool Pottery: Pumpkins 	
DESCRIPTION:Make all kinds of clay pumpkins and help us get ready for the P
 umpkin Scavenger Hunt. Students will glaze their pottery on the last day o
 f class and work will be available for pickup or shipping two to three wee
 ks after class.
 Class Meets: September 9\, 16\, and 23
 Suitable for ag
 es: 6-18
LOCATION:323 Franklin Road\, Highlands\, NC 28741 
DTSTART:20260909T173000Z
DTEND:20260923T190000Z
DTSTAMP:20251217T215024Z
ORGANIZER;CN=The Bascom:MAILTO:info@thebascom.org
GEO:35.05781;-83.204179
X-APPLE-STRUCTURED-LOCATION;VALUE=URI;X-ADDRESS=323 Franklin Road\, Highlan
 ds\, NC 28741 ;X-APPLE-RADIUS=72;X-TITLE=The Studio Covered Terrace:35.057
 81;-83.204179
END:VEVENT
END:VCALENDAR